BEGIN:VCALENDAR
VERSION:2.0
PRODID:-//wp-events-plugin.com//6.6.3//EN
BEGIN:VEVENT
UID:3@zkarts.gr
DTSTART;VALUE=DATE:20241022
DTEND;VALUE=DATE:20241101
DTSTAMP:20240930T121756Z
URL:https://zkarts.gr/events/easter/
SUMMARY:EASTER
DESCRIPTION:
CATEGORIES:EASTER
LOCATION:ΝΟΤΙΑ\, Λεωφ. Αγίου Δημητρίου 49\, Αγ. Δ
 ημήτριος\, Αττικής\, 17343\, ΝΟΤΙΑ ΠΡΟΑΣΤΙΑ\, 
 Ελλάδα
X-APPLE-STRUCTURED-LOCATION;VALUE=URI;X-ADDRESS=Λεωφ. Αγίου Δημ
 ητρίου 49\, Αγ. Δημήτριος\, Αττικής\, 17343\, ΝΟ
 ΤΙΑ ΠΡΟΑΣΤΙΑ\, Ελλάδα;X-APPLE-RADIUS=100;X-TITLE=ΝΟΤΙ
 Α:geo:0,0
END:VEVENT
END:VCALENDAR